BEGIN:VCALENDAR
VERSION:2.0
PRODID:-//pretix//pretix.eu//
BEGIN:VTIMEZONE
TZID:Europe/Berlin
BEGIN:STANDARD
DTSTART:20001029T040000
RRULE:FREQ=YEARLY;BYDAY=-1SU;BYMONTH=10
TZNAME:CET
TZOFFSETFROM:+0200
TZOFFSETTO:+0100
END:STANDARD
BEGIN:DAYLIGHT
DTSTART:20000326T030000
RRULE:FREQ=YEARLY;BYDAY=-1SU;BYMONTH=3
TZNAME:CEST
TZOFFSETFROM:+0100
TZOFFSETTO:+0200
END:DAYLIGHT
END:VTIMEZONE
BEGIN:VEVENT
UID:pretix-agentur-zweigold-bgxv7-0@agentur-zweigold.fairetickets.de
DTSTART;TZID=Europe/Berlin:20211221T200000
DTEND;TZID=Europe/Berlin:20211221T210000
DESCRIPTION:Tickets: https://agentur-zweigold.fairetickets.de/bgxv7/\nEinla
 ss: 21.12.2021 18:00\nVeranstalter: Agentur Zweigold
DTSTAMP:20260420T123432Z
LOCATION:Wirtshaus im Schlachthof\, Zenettistr. 9\, 80337 München
SUMMARY:XX Liesl Weapon & Andreas Bittl – A Weihnachtsgschicht (Wirtshaus
  im Schlachthof/München)
END:VEVENT
END:VCALENDAR
