BEGIN:VCALENDAR
VERSION:2.0
PRODID:-//pretix//pretix.eu//
BEGIN:VTIMEZONE
TZID:Europe/Berlin
BEGIN:STANDARD
DTSTART:20001029T040000
RRULE:FREQ=YEARLY;BYDAY=-1SU;BYMONTH=10
TZNAME:CET
TZOFFSETFROM:+0200
TZOFFSETTO:+0100
END:STANDARD
BEGIN:DAYLIGHT
DTSTART:20000326T030000
RRULE:FREQ=YEARLY;BYDAY=-1SU;BYMONTH=3
TZNAME:CEST
TZOFFSETFROM:+0100
TZOFFSETTO:+0200
END:DAYLIGHT
END:VTIMEZONE
BEGIN:VEVENT
UID:pretix-agentur-zweigold-clnr9-0@agentur-zweigold.fairetickets.de
DTSTART;TZID=Europe/Berlin:20211218T200000
DTEND;TZID=Europe/Berlin:20211218T210000
DESCRIPTION:Tickets: https://agentur-zweigold.fairetickets.de/clnr9/\nEinla
 ss: 18.12.2021 19:30\nVeranstalter: Agentur Zweigold
DTSTAMP:20260420T123428Z
LOCATION:Aula der Grundschule Neubiberg\, Rathausplatz 9\, 85779 Neubiberg
SUMMARY:XX AMELIE DIANA & ANDREAS BITTL – A Weihnachtsgschicht (Grundschu
 le Neubiberg/Neubiberg)
END:VEVENT
END:VCALENDAR
