BEGIN:VCALENDAR
VERSION:2.0
PRODID:-//pretix//pretix.eu//
BEGIN:VTIMEZONE
TZID:Europe/Berlin
BEGIN:STANDARD
DTSTART:20001029T040000
RRULE:FREQ=YEARLY;BYDAY=-1SU;BYMONTH=10
TZNAME:CET
TZOFFSETFROM:+0200
TZOFFSETTO:+0100
END:STANDARD
BEGIN:DAYLIGHT
DTSTART:20000326T030000
RRULE:FREQ=YEARLY;BYDAY=-1SU;BYMONTH=3
TZNAME:CEST
TZOFFSETFROM:+0100
TZOFFSETTO:+0200
END:DAYLIGHT
END:VTIMEZONE
BEGIN:VEVENT
UID:pretix-agentur-zweigold-dzap7-0@agentur-zweigold.fairetickets.de
DTSTART;TZID=Europe/Berlin:20230616T200000
DTEND;TZID=Europe/Berlin:20230616T210000
DESCRIPTION:Tickets: https://agentur-zweigold.fairetickets.de/dzap7/\nEinla
 ss: 16.06.2023 19:30\nVeranstalter: Agentur Zweigold
DTSTAMP:20260422T053204Z
LOCATION:7-Täler-Halle\, Bahnhofstr. 44\, 92345 Dietfurt
SUMMARY:XX MARTIN FRANK - Einer für alle – Alle für keinen! (7-Täler-H
 alle/Dietfurt)
END:VEVENT
END:VCALENDAR
