BEGIN:VCALENDAR
VERSION:2.0
PRODID:-//pretix//pretix.eu//
BEGIN:VTIMEZONE
TZID:Europe/Berlin
BEGIN:STANDARD
DTSTART:20001029T040000
RRULE:FREQ=YEARLY;BYDAY=-1SU;BYMONTH=10
TZNAME:CET
TZOFFSETFROM:+0200
TZOFFSETTO:+0100
END:STANDARD
BEGIN:DAYLIGHT
DTSTART:20000326T030000
RRULE:FREQ=YEARLY;BYDAY=-1SU;BYMONTH=3
TZNAME:CEST
TZOFFSETFROM:+0100
TZOFFSETTO:+0200
END:DAYLIGHT
END:VTIMEZONE
BEGIN:VEVENT
UID:pretix-agentur-zweigold-jdpdj-0@agentur-zweigold.fairetickets.de
DTSTART;TZID=Europe/Berlin:20270318T200000
DTEND;TZID=Europe/Berlin:20270318T210000
DESCRIPTION:Tickets: https://agentur-zweigold.fairetickets.de/jdpdj/\nEinla
 ss: 18.03.2027 19:00\nVeranstalter: Agentur Zweigold
DTSTAMP:20260419T152552Z
LOCATION:Landgasthof Rockermeier\, Bachstraße 3\, 85290 Geisenfeld
SUMMARY:EVA KARL FALTERMEIER - Ding Dong (Landgasthof Rockermeier Geisenfel
 d)
END:VEVENT
END:VCALENDAR
