BEGIN:VCALENDAR
VERSION:2.0
PRODID:-//pretix//pretix.eu//
BEGIN:VTIMEZONE
TZID:Europe/Berlin
BEGIN:STANDARD
DTSTART:20001029T040000
RRULE:FREQ=YEARLY;BYDAY=-1SU;BYMONTH=10
TZNAME:CET
TZOFFSETFROM:+0200
TZOFFSETTO:+0100
END:STANDARD
BEGIN:DAYLIGHT
DTSTART:20000326T030000
RRULE:FREQ=YEARLY;BYDAY=-1SU;BYMONTH=3
TZNAME:CEST
TZOFFSETFROM:+0100
TZOFFSETTO:+0200
END:DAYLIGHT
END:VTIMEZONE
BEGIN:VEVENT
UID:pretix-agentur-zweigold-k9hls-0@agentur-zweigold.fairetickets.de
DTSTART;TZID=Europe/Berlin:20230712T193000
DTEND;TZID=Europe/Berlin:20230712T203000
DESCRIPTION:Tickets: https://agentur-zweigold.fairetickets.de/k9hls/\nEinla
 ss: 12.07.2023 18:30\nVeranstalter: Agentur Zweigold
DTSTAMP:20260423T145930Z
LOCATION:Kulturzelt Donaufest\, Eginger Straße 31\, 94469 Deggendorf
SUMMARY:XX MARTIN FRANK - Einer für alle – Alle für keinen! (Kulturzelt
  Donaufest/Deggendorf)
END:VEVENT
END:VCALENDAR
