BEGIN:VCALENDAR
VERSION:2.0
PRODID:-//pretix//pretix.eu//
BEGIN:VTIMEZONE
TZID:Europe/Berlin
BEGIN:STANDARD
DTSTART:20001029T040000
RRULE:FREQ=YEARLY;BYDAY=-1SU;BYMONTH=10
TZNAME:CET
TZOFFSETFROM:+0200
TZOFFSETTO:+0100
END:STANDARD
BEGIN:DAYLIGHT
DTSTART:20000326T030000
RRULE:FREQ=YEARLY;BYDAY=-1SU;BYMONTH=3
TZNAME:CEST
TZOFFSETFROM:+0100
TZOFFSETTO:+0200
END:DAYLIGHT
END:VTIMEZONE
BEGIN:VEVENT
UID:pretix-agentur-zweigold-p9axt-0@agentur-zweigold.fairetickets.de
DTSTART;TZID=Europe/Berlin:20270510T200000
DTEND;TZID=Europe/Berlin:20270510T210000
DESCRIPTION:Tickets: https://agentur-zweigold.fairetickets.de/p9axt/\nEinla
 ss: 10.05.2027 19:00\nVeranstalter: Agentur Zweigold
DTSTAMP:20260419T152545Z
LOCATION:Johanneszentrum\, Ringstraße 61\, 92318 Neumarkt i.d.OPf.
SUMMARY:EVA KARL FALTERMEIER - Ding Dong (Kolpingsaal/Neumarkt)
END:VEVENT
END:VCALENDAR
