BEGIN:VCALENDAR
VERSION:2.0
PRODID:-//pretix//pretix.eu//
BEGIN:VTIMEZONE
TZID:Europe/Berlin
BEGIN:STANDARD
DTSTART:20001029T040000
RRULE:FREQ=YEARLY;BYDAY=-1SU;BYMONTH=10
TZNAME:CET
TZOFFSETFROM:+0200
TZOFFSETTO:+0100
END:STANDARD
BEGIN:DAYLIGHT
DTSTART:20000326T030000
RRULE:FREQ=YEARLY;BYDAY=-1SU;BYMONTH=3
TZNAME:CEST
TZOFFSETFROM:+0100
TZOFFSETTO:+0200
END:DAYLIGHT
END:VTIMEZONE
BEGIN:VEVENT
UID:pretix-agentur-zweigold-rrbfu-0@agentur-zweigold.fairetickets.de
DTSTART;TZID=Europe/Berlin:20270312T193000
DTEND;TZID=Europe/Berlin:20270312T203000
DESCRIPTION:Tickets: https://agentur-zweigold.fairetickets.de/rrbfu/\nEinla
 ss: 12.03.2027 18:30\nVeranstalter: Agentur Zweigold
DTSTAMP:20260419T152545Z
LOCATION:Bürgerzentrum\, Max-Planck-Platz 11\, 84508  Burgkirchen an der A
 lz
SUMMARY:Eva Karl Faltermeier - Ding Dong (Bürgerzentrum Burgkirchen)
END:VEVENT
END:VCALENDAR
